BEGIN:VCALENDAR
VERSION:2.0
PRODID:-//eventon.com NONSGML v1.0//EN
CALSCALE:GREGORIAN
METHOD:PUBLISH
BEGIN:VEVENT
UID:69e68988a9c63
DTSTAMP:20260420T201608Z
DTSTART:20251118T230000Z
DTEND:20251119T003000Z
LOCATION:133 Grace St\,  Appleby\,  Invercargill 9812\,  New Zealand 133 Grace St\,  Appleby\,  Invercargill 9812\,  New Zealand
SUMMARY:Waffling Wednesdays at The Pantry
DESCRIPTION:Everyone is welcome ! Join us every Wednesday to enjoy conversa
 tion with others in The Pantry. https://www.facebook.com/events/12202953697
 73760/?event_time_id=1220295456440418\nhttps://www.southalive.org.nz/events
 /waffling-wednesdays-at-the-pantry/
URL:https://www.southalive.org.nz/events/waffling-wednesdays-at-the-pantry/
END:VEVENT
END:VCALENDAR